BEGIN:VCALENDAR
VERSION:2.0
PRODID:-//JC Dance Co. - ECPv6.15.20//NONSGML v1.0//EN
CALSCALE:GREGORIAN
METHOD:PUBLISH
X-ORIGINAL-URL:https://jcdanceco.ca
X-WR-CALDESC:Events for JC Dance Co.
REFRESH-INTERVAL;VALUE=DURATION:PT1H
X-Robots-Tag:noindex
X-PUBLISHED-TTL:PT1H
BEGIN:VTIMEZONE
TZID:America/Vancouver
BEGIN:DAYLIGHT
TZOFFSETFROM:-0800
TZOFFSETTO:-0700
TZNAME:PDT
DTSTART:20250309T100000
END:DAYLIGHT
BEGIN:STANDARD
TZOFFSETFROM:-0700
TZOFFSETTO:-0800
TZNAME:PST
DTSTART:20251102T090000
END:STANDARD
BEGIN:DAYLIGHT
TZOFFSETFROM:-0800
TZOFFSETTO:-0700
TZNAME:PDT
DTSTART:20260308T100000
END:DAYLIGHT
BEGIN:STANDARD
TZOFFSETFROM:-0700
TZOFFSETTO:-0800
TZNAME:PST
DTSTART:20261101T090000
END:STANDARD
BEGIN:DAYLIGHT
TZOFFSETFROM:-0800
TZOFFSETTO:-0700
TZNAME:PDT
DTSTART:20270314T100000
END:DAYLIGHT
BEGIN:STANDARD
TZOFFSETFROM:-0700
TZOFFSETTO:-0800
TZNAME:PST
DTSTART:20271107T090000
END:STANDARD
END:VTIMEZONE
BEGIN:VEVENT
DTSTART;TZID=America/Vancouver:20260209T193000
DTEND;TZID=America/Vancouver:20260209T202500
DTSTAMP:20260421T021552
CREATED:20230305T001339Z
LAST-MODIFIED:20251129T223308Z
UID:13197-1770665400-1770668700@jcdanceco.ca
SUMMARY:Intermediate Group Class - Tango 2 of 2
DESCRIPTION:Enjoy upgrading your ballroom skills with our Intermediate Group Class\, with a perfect balance of technique and steps suitable for the Pre-Bronze to Silver level dancer. The Wosk Auditorium at the JCC has a wonderful dance floor\, with loads of parking on the property and free parking in the neighbourhood. \nSingles\, couples and groups of fun loving dancing friends are all invited to join. \nRegister here for the class: /groupclassregistration/ \nFREE Admission for all attending Intermediate Group Class students to the social dance after each class from 8:25 – 9:50pm!!! \nFor more information\, feel free to reach out over email – info@jcdanceco.com
URL:https://jcdanceco.ca/calendar/intermediate-group-class-tango-2-of-2-3/
LOCATION:Wosk Auditorium @ the JCC\, 950 W. 41st Ave\, Vancouver
CATEGORIES:Group Classes
END:VEVENT
END:VCALENDAR